View In:
ArcGIS JavaScript
ArcGIS Online Map Viewer
ArcGIS Earth
ArcMap
View Footprint In:
ArcGIS Online Map Viewer
Service Description: The Texas Water Development Board (TWDB) in cooperation with their project partners tasked Fugro Geospatial, Inc. (Fugro) under the Department of Information Resources (DIR) Geographic Information Systems (GIS) Hardware, Software and Services contract also known as the Texas Strategic Mapping (StratMap) Contract to acquire high resolution elevation data and associated products from airborne lidar systems during the 2017-2018 leaf-off season. The StratMap Program promotes inter-governmental collaboration and partnerships to purchase geospatial data products that provide cost savings and project efficiencies. Both the StratMap Program and the StratMap Contract are administered by the Texas Natural Resources Information System (TNRIS), a division of TWDB. Project partners include: Houston-Galveston Area Council (H-GAC), Harris County Flood Control District (HCFCD), and the United States Geological Survey (USGS). This Coastal Texas project consists of approximately 9,758 DO4Q tiles and is located on the Texas Coast covering much of Orange to Matagorda County along with Harris County and the surrounding area. The project includes large metropolitan areas as well as coastal areas. The Urban and Coastal AOIs consist of approximately 4.045 square miles and were acquired between January 12 and March 22, 2018 utilizing both Riegl LMS-Q680i and Riegl LMS-Q780 sensors; collecting multiple return x, y, and z as well as intensity data. Specialized in-house and commercial software processes the native lidar data into 3-dimensional positions that can be imported into GIS software for visualization and further analysis. The horizontal datum for the data is the North American Datum of 1983 (NAD83, 2011) in feet and the vertical datum is the North American Vertical Datum of 1988 (NAVD88) in feet realized with GEOID12B
Name: DEM/LIDAR_2018
Description: The Texas Water Development Board (TWDB) in cooperation with their project partners tasked Fugro Geospatial, Inc. (Fugro) under the Department of Information Resources (DIR) Geographic Information Systems (GIS) Hardware, Software and Services contract also known as the Texas Strategic Mapping (StratMap) Contract to acquire high resolution elevation data and associated products from airborne lidar systems during the 2017-2018 leaf-off season. The StratMap Program promotes inter-governmental collaboration and partnerships to purchase geospatial data products that provide cost savings and project efficiencies. Both the StratMap Program and the StratMap Contract are administered by the Texas Natural Resources Information System (TNRIS), a division of TWDB. Project partners include: Houston-Galveston Area Council (H-GAC), Harris County Flood Control District (HCFCD), and the United States Geological Survey (USGS). This Coastal Texas project consists of approximately 9,758 DO4Q tiles and is located on the Texas Coast covering much of Orange to Matagorda County along with Harris County and the surrounding area. The project includes large metropolitan areas as well as coastal areas. The Urban and Coastal AOIs consist of approximately 4.045 square miles and were acquired between January 12 and March 22, 2018 utilizing both Riegl LMS-Q680i and Riegl LMS-Q780 sensors; collecting multiple return x, y, and z as well as intensity data. Specialized in-house and commercial software processes the native lidar data into 3-dimensional positions that can be imported into GIS software for visualization and further analysis. The horizontal datum for the data is the North American Datum of 1983 (NAD83, 2011) in feet and the vertical datum is the North American Vertical Datum of 1988 (NAVD88) in feet realized with GEOID12B
Single Fused Map Cache: false
Extent:
XMin: 2909184
YMin: 13722030
XMax: 3284196
YMax: 14119770
Spatial Reference: 103161
(6588)
Initial Extent:
XMin: 2909184
YMin: 13722030
XMax: 3284196
YMax: 14119770
Spatial Reference: 103161
(6588)
Full Extent:
XMin: 2909184
YMin: 13722030
XMax: 3284196
YMax: 14119770
Spatial Reference: 103161
(6588)
Pixel Size X: 3.0
Pixel Size Y: 3.0
Band Count: 1
Pixel Type: F32
RasterFunction Infos: {"rasterFunctionInfos": [{
"name": "None",
"description": "",
"help": ""
}]}
Mensuration Capabilities: Basic
Has Histograms: true
Has Colormap: false
Has Multi Dimensions : false
Rendering Rule:
Min Scale: 0
Max Scale: 0
Copyright Text: Texas Water Development Board
Service Data Type: esriImageServiceDataTypeElevation
Min Values: -40.86399841308594
Max Values: 442.6940002441406
Mean Values: 118.3681490986484
Standard Deviation Values: 84.04855408937375
Object ID Field:
Fields:
None
Default Mosaic Method: Center
Allowed Mosaic Methods:
SortField:
SortValue: null
Mosaic Operator: First
Default Compression Quality: 75
Default Resampling Method: Bilinear
Max Record Count: null
Max Image Height: 4100
Max Image Width: 15000
Max Download Image Count: null
Max Mosaic Image Count: null
Allow Raster Function: true
Allow Copy: true
Allow Analysis: true
Allow Compute TiePoints: false
Supports Statistics: false
Supports Advanced Queries: false
Use StandardizedQueries: true
Raster Type Infos:
Name: Raster Dataset
Description: Supports all ArcGIS Raster Datasets
Help:
Has Raster Attribute Table: false
Edit Fields Info: null
Ownership Based AccessControl For Rasters: null
Child Resources:
Info
Histograms
Statistics
Key Properties
Legend
Raster Function Infos
Supported Operations:
Export Image
Identify
Measure
Compute Histograms
Compute Statistics Histograms
Get Samples
Compute Class Statistics
Query Boundary
Compute Pixel Location
Validate
Project
Calculate Volume