{ "currentVersion": 10.81, "serviceDescription": "
The Texas Water Development Board (TWDB) in cooperation with their project partners tasked Fugro Geospatial, Inc. (Fugro) under the Department of Information Resources (DIR) Geographic Information Systems (GIS) Hardware, Software and Services contract also known as the Texas Strategic Mapping (StratMap) Contract to acquire high resolution elevation data and associated products from airborne lidar systems during the 2017-2018 leaf-off season. The StratMap Program promotes inter-governmental collaboration and partnerships to purchase geospatial data products that provide cost savings and project efficiencies. Both the StratMap Program and the StratMap Contract are administered by the Texas Natural Resources Information System (TNRIS), a division of TWDB. Project partners include: Houston-Galveston Area Council (H-GAC), Harris County Flood Control District (HCFCD), and the United States Geological Survey (USGS). This Coastal Texas project consists of approximately 9,758 DO4Q tiles and is located on the Texas Coast covering much of Orange to Matagorda County along with Harris County and the surrounding area. The project includes large metropolitan areas as well as coastal areas. The Urban and Coastal AOIs consist of approximately 4.045 square miles and were acquired between January 12 and March 22, 2018 utilizing both Riegl LMS-Q680i and Riegl LMS-Q780 sensors; collecting multiple return x, y, and z as well as intensity data. Specialized in-house and commercial software processes the native lidar data into 3-dimensional positions that can be imported into GIS software for visualization and further analysis. The horizontal datum for the data is the North American Datum of 1983 (NAD83, 2011) in feet and the vertical datum is the North American Vertical Datum of 1988 (NAVD88) in feet realized with GEOID12B<\/span><\/p><\/div><\/div>",
"name": "DEM/LIDAR_2018",
"description": " The Texas Water Development Board (TWDB) in cooperation with their project partners tasked Fugro Geospatial, Inc. (Fugro) under the Department of Information Resources (DIR) Geographic Information Systems (GIS) Hardware, Software and Services contract also known as the Texas Strategic Mapping (StratMap) Contract to acquire high resolution elevation data and associated products from airborne lidar systems during the 2017-2018 leaf-off season. The StratMap Program promotes inter-governmental collaboration and partnerships to purchase geospatial data products that provide cost savings and project efficiencies. Both the StratMap Program and the StratMap Contract are administered by the Texas Natural Resources Information System (TNRIS), a division of TWDB. Project partners include: Houston-Galveston Area Council (H-GAC), Harris County Flood Control District (HCFCD), and the United States Geological Survey (USGS). This Coastal Texas project consists of approximately 9,758 DO4Q tiles and is located on the Texas Coast covering much of Orange to Matagorda County along with Harris County and the surrounding area. The project includes large metropolitan areas as well as coastal areas. The Urban and Coastal AOIs consist of approximately 4.045 square miles and were acquired between January 12 and March 22, 2018 utilizing both Riegl LMS-Q680i and Riegl LMS-Q780 sensors; collecting multiple return x, y, and z as well as intensity data. Specialized in-house and commercial software processes the native lidar data into 3-dimensional positions that can be imported into GIS software for visualization and further analysis. The horizontal datum for the data is the North American Datum of 1983 (NAD83, 2011) in feet and the vertical datum is the North American Vertical Datum of 1988 (NAVD88) in feet realized with GEOID12B<\/span><\/p><\/div><\/div>",
"extent": {
"xmin": 2909184,
"ymin": 13722030,
"xmax": 3284196,
"ymax": 14119770,
"spatialReference": {
"wkid": 103161,
"latestWkid": 6588
}
},
"initialExtent": {
"xmin": 2909184,
"ymin": 13722030,
"xmax": 3284196,
"ymax": 14119770,
"spatialReference": {
"wkid": 103161,
"latestWkid": 6588
}
},
"fullExtent": {
"xmin": 2909184,
"ymin": 13722030,
"xmax": 3284196,
"ymax": 14119770,
"spatialReference": {
"wkid": 103161,
"latestWkid": 6588
}
},
"pixelSizeX": 3,
"pixelSizeY": 3,
"datasetFormat": "FGDBR",
"uncompressedSize": 66292121280,
"blockWidth": 128,
"blockHeight": 128,
"compressionType": "NONE",
"bandNames": [
"Band_1"
],
"allowCopy": true,
"allowAnalysis": true,
"bandCount": 1,
"pixelType": "F32",
"minPixelSize": 0,
"maxPixelSize": 0,
"copyrightText": "Texas Water Development Board",
"serviceDataType": "esriImageServiceDataTypeElevation",
"serviceSourceType": "esriImageServiceSourceTypeDataset",
"minValues": [
-40.86399841308594
],
"maxValues": [
442.6940002441406
],
"meanValues": [
118.3681490986484
],
"stdvValues": [
84.04855408937375
],
"objectIdField": "",
"fields": [],
"capabilities": "Mensuration,Image,Metadata",
"defaultMosaicMethod": "Center",
"allowedMosaicMethods": "",
"sortField": "",
"sortValue": null,
"sortAscending": true,
"mosaicOperator": "First",
"defaultCompressionQuality": 75,
"defaultResamplingMethod": "Bilinear",
"maxImageHeight": 4100,
"maxImageWidth": 15000,
"allowRasterFunction": true,
"rasterFunctionInfos": [
{
"name": "None",
"description": "",
"help": ""
}
],
"rasterTypeInfos": [
{
"name": "Raster Dataset",
"description": "Supports all ArcGIS Raster Datasets",
"help": ""
}
],
"mensurationCapabilities": "Basic",
"hasHistograms": true,
"hasColormap": false,
"hasRasterAttributeTable": false,
"minScale": 0,
"maxScale": 0,
"exportTilesAllowed": false,
"hasMultidimensions": false,
"supportsStatistics": false,
"supportsAdvancedQueries": false,
"editFieldsInfo": null,
"ownershipBasedAccessControlForRasters": null,
"allowComputeTiePoints": false,
"useStandardizedQueries": true,
"advancedQueryCapabilities": {
"useStandardizedQueries": true,
"supportsStatistics": false,
"supportsOrderBy": false,
"supportsDistinct": false,
"supportsPagination": false
},
"spatialReference": {
"wkid": 103161,
"latestWkid": 6588
}
}