View In:
ArcGIS JavaScript
ArcGIS Online Map Viewer
ArcGIS Earth
ArcMap
View Footprint In:
ArcGIS Online Map Viewer
Service Description: StormSurge/StormSurge_Cat4
Name: StormSurge/StormSurge_Cat4
Description:
Single Fused Map Cache: false
Extent:
XMin: -96.0039264996984
YMin: 29.448529389257153
XMax: -94.85695691769101
YMax: 30.22890041599105
Spatial Reference: 4269
(4269)
Initial Extent:
XMin: -96.0039264996984
YMin: 29.448529389257153
XMax: -94.85695691769101
YMax: 30.22890041599105
Spatial Reference: 4269
(4269)
Full Extent:
XMin: -96.0039264996984
YMin: 29.448529389257153
XMax: -94.85695691769101
YMax: 30.22890041599105
Spatial Reference: 4269
(4269)
Pixel Size X: 9.570840971356697E-5
Pixel Size Y: 1.0045970992969821E-4
Band Count: 1
Pixel Type: S8
RasterFunction Infos: {"rasterFunctionInfos": [{
"name": "None",
"description": "",
"help": ""
}]}
Mensuration Capabilities: Basic
Has Histograms: true
Has Colormap: false
Has Multi Dimensions : false
Rendering Rule:
Min Scale: 0
Max Scale: 0
Copyright Text:
Service Data Type: esriImageServiceDataTypeGeneric
Min Values: 1
Max Values: 4
Mean Values: 2.9034094120240814
Standard Deviation Values: 1.1681989981406666
Object ID Field:
Fields:
None
Default Mosaic Method: Center
Allowed Mosaic Methods:
SortField:
SortValue: null
Mosaic Operator: First
Default Compression Quality: 75
Default Resampling Method: Bilinear
Max Record Count: null
Max Image Height: 4100
Max Image Width: 15000
Max Download Image Count: null
Max Mosaic Image Count: null
Allow Raster Function: true
Allow Copy: true
Allow Analysis: true
Allow Compute TiePoints: false
Supports Statistics: false
Supports Advanced Queries: false
Use StandardizedQueries: true
Raster Type Infos:
Name: Raster Dataset
Description: Supports all ArcGIS Raster Datasets
Help:
Has Raster Attribute Table: true
Edit Fields Info: null
Ownership Based AccessControl For Rasters: null
Child Resources:
Info
Raster Attribute Table
Histograms
Statistics
Key Properties
Legend
Raster Function Infos
Supported Operations:
Export Image
Identify
Measure
Compute Histograms
Compute Statistics Histograms
Get Samples
Compute Class Statistics
Query Boundary
Compute Pixel Location
Validate
Project