View In:
ArcGIS JavaScript
ArcGIS Online Map Viewer
ArcGIS Earth
ArcMap
View Footprint In:
ArcGIS Online Map Viewer
Service Description: StormSurge/StormSurge_Cat1
Name: StormSurge/StormSurge_Cat1
Description:
Single Fused Map Cache: false
Extent:
XMin: -95.97262984972205
YMin: 29.489990456943872
XMax: -94.89617864969806
YMax: 30.187711934919868
Spatial Reference: 4269
(4269)
Initial Extent:
XMin: -95.97262984972205
YMin: 29.489990456943872
XMax: -94.89617864969806
YMax: 30.187711934919868
Spatial Reference: 4269
(4269)
Full Extent:
XMin: -95.97262984972205
YMin: 29.489990456943872
XMax: -94.89617864969806
YMax: 30.187711934919868
Spatial Reference: 4269
(4269)
Pixel Size X: 8.983152799999967E-5
Pixel Size Y: 8.98315279999995E-5
Band Count: 1
Pixel Type: U8
RasterFunction Infos: {"rasterFunctionInfos": [{
"name": "None",
"description": "",
"help": ""
}]}
Mensuration Capabilities: Basic
Has Histograms: true
Has Colormap: false
Has Multi Dimensions : false
Rendering Rule:
Min Scale: 0
Max Scale: 0
Copyright Text:
Service Data Type: esriImageServiceDataTypeGeneric
Min Values: 1
Max Values: 4
Mean Values: 1.7146646240382306
Standard Deviation Values: 0.8022121557964873
Object ID Field:
Fields:
None
Default Mosaic Method: Center
Allowed Mosaic Methods:
SortField:
SortValue: null
Mosaic Operator: First
Default Compression Quality: 75
Default Resampling Method: Bilinear
Max Record Count: null
Max Image Height: 4100
Max Image Width: 15000
Max Download Image Count: null
Max Mosaic Image Count: null
Allow Raster Function: true
Allow Copy: true
Allow Analysis: true
Allow Compute TiePoints: false
Supports Statistics: false
Supports Advanced Queries: false
Use StandardizedQueries: true
Raster Type Infos:
Name: Raster Dataset
Description: Supports all ArcGIS Raster Datasets
Help:
Has Raster Attribute Table: true
Edit Fields Info: null
Ownership Based AccessControl For Rasters: null
Child Resources:
Info
Raster Attribute Table
Histograms
Statistics
Key Properties
Legend
Raster Function Infos
Supported Operations:
Export Image
Identify
Measure
Compute Histograms
Compute Statistics Histograms
Get Samples
Compute Class Statistics
Query Boundary
Compute Pixel Location
Validate
Project