<?xml version="1.0" encoding="UTF-8" standalone="no"?>
<metadata xml:lang="en">
<Esri>
<CreaDate>20231110</CreaDate>
<CreaTime>13350000</CreaTime>
<ArcGISFormat>1.0</ArcGISFormat>
<SyncOnce>FALSE</SyncOnce>
<DataProperties>
<lineage>
<Process Date="20231110" Time="133500" ToolSource="c:\users\eworthington\appdata\local\programs\arcgis\pro\Resources\ArcToolbox\toolboxes\Spatial Analyst Tools.tbx\Reclassify">Reclassify StormSurge_Cat1_Merge data_range "'00 to 01 foot above ground' 1;'01 to 02 feet above ground' 1;'02 to 03 feet above ground' 1;'03 to 04 feet above ground' 2;'04 to 05 feet above ground' 2;'05 to 06 feet above ground' 2;'06 to 07 feet above ground' 3;'07 to 08 feet above ground' 3;'08 to 09 feet above ground' 3;'09 to 10 feet above ground' 4" "\\fs.hc.hctx.net\Shares\PID\GisData\Projects\DataRequests\Yeni Bakare\Data Requests Map\Data Requests Map.gdb\StormSurge_Cat1_reclass2" DATA</Process>
<Process Date="20231113" Time="095128" ToolSource="c:\users\eworthington\appdata\local\programs\arcgis\pro\Resources\ArcToolbox\toolboxes\Data Management Tools.tbx\BuildPyramids">BuildPyramids "\\fs.hc.hctx.net\Shares\PID\GisData\Projects\DataRequests\Yeni Bakare\Data Requests Map\Data Requests Map.gdb\StormSurge_Cat1_reclass2" -1 NONE Nearest DEFAULT 75 OVERWRITE</Process>
<Process Date="20231113" Time="095544" ToolSource="c:\users\eworthington\appdata\local\programs\arcgis\pro\Resources\ArcToolbox\toolboxes\Data Management Tools.tbx\CalculateStatistics">CalculateStatistics "\\fs.hc.hctx.net\Shares\PID\GisData\Projects\DataRequests\Yeni Bakare\Data Requests Map\Data Requests Map.gdb\StormSurge_Cat1_reclass2" 1 1 # OVERWRITE "Feature Set"</Process>
</lineage>
<itemProps>
<itemName Sync="TRUE">StormSurge_Cat1_reclass2</itemName>
<imsContentType Sync="TRUE">002</imsContentType>
<nativeExtBox>
<westBL Sync="TRUE">-95.972630</westBL>
<eastBL Sync="TRUE">-94.896179</eastBL>
<southBL Sync="TRUE">29.489990</southBL>
<northBL Sync="TRUE">30.187712</northBL>
<exTypeCode Sync="TRUE">1</exTypeCode>
</nativeExtBox>
<itemLocation>
<linkage Sync="TRUE">file://\\svpenggisimg\E$\StormSurge\StormSurge.gdb</linkage>
<protocol Sync="TRUE">Local Area Network</protocol>
</itemLocation>
</itemProps>
<coordRef>
<type Sync="TRUE">Geographic</type>
<geogcsn Sync="TRUE">GCS_North_American_1983</geogcsn>
<csUnits Sync="TRUE">Angular Unit: Degree (0.017453)</csUnits>
<peXml Sync="TRUE">&lt;GeographicCoordinateSystem xsi:type='typens:GeographicCoordinateSystem' xmlns:xsi='http://www.w3.org/2001/XMLSchema-instance' xmlns:xs='http://www.w3.org/2001/XMLSchema' xmlns:typens='http://www.esri.com/schemas/ArcGIS/10.8'&gt;&lt;WKT&gt;GEOGCS[&amp;quot;GCS_North_American_1983&amp;quot;,DATUM[&amp;quot;D_North_American_1983&amp;quot;,SPHEROID[&amp;quot;GRS_1980&amp;quot;,6378137.0,298.257222101]],PRIMEM[&amp;quot;Greenwich&amp;quot;,0.0],UNIT[&amp;quot;Degree&amp;quot;,0.0174532925199433],AUTHORITY[&amp;quot;EPSG&amp;quot;,4269]]&lt;/WKT&gt;&lt;XOrigin&gt;-400&lt;/XOrigin&gt;&lt;YOrigin&gt;-400&lt;/YOrigin&gt;&lt;XYScale&gt;11258999068426.238&lt;/XYScale&gt;&lt;ZOrigin&gt;-100000&lt;/ZOrigin&gt;&lt;ZScale&gt;10000&lt;/ZScale&gt;&lt;MOrigin&gt;-100000&lt;/MOrigin&gt;&lt;MScale&gt;10000&lt;/MScale&gt;&lt;XYTolerance&gt;8.9831528411952133e-09&lt;/XYTolerance&gt;&lt;ZTolerance&gt;0.001&lt;/ZTolerance&gt;&lt;MTolerance&gt;0.001&lt;/MTolerance&gt;&lt;HighPrecision&gt;true&lt;/HighPrecision&gt;&lt;LeftLongitude&gt;-180&lt;/LeftLongitude&gt;&lt;WKID&gt;4269&lt;/WKID&gt;&lt;LatestWKID&gt;4269&lt;/LatestWKID&gt;&lt;/GeographicCoordinateSystem&gt;</peXml>
</coordRef>
</DataProperties>
<SyncDate>20231113</SyncDate>
<SyncTime>12145700</SyncTime>
<ModDate>20231113</ModDate>
<ModTime>12145700</ModTime>
</Esri>
<dataIdInfo>
<envirDesc Sync="TRUE"> Version 6.2 (Build 9200) ; Esri ArcGIS 10.8.1.14362</envirDesc>
<dataLang>
<languageCode Sync="TRUE" value="eng"/>
<countryCode Sync="TRUE" value="USA"/>
</dataLang>
<idCitation>
<resTitle Sync="TRUE">StormSurge_Cat1</resTitle>
<presForm>
<PresFormCd Sync="TRUE" value="011"/>
</presForm>
</idCitation>
<spatRpType>
<SpatRepTypCd Sync="TRUE" value="002"/>
</spatRpType>
<dataExt>
<geoEle>
<GeoBndBox esriExtentType="search">
<exTypeCode Sync="TRUE">1</exTypeCode>
<westBL Sync="TRUE">-95.972630</westBL>
<eastBL Sync="TRUE">-94.896179</eastBL>
<northBL Sync="TRUE">30.187712</northBL>
<southBL Sync="TRUE">29.489990</southBL>
</GeoBndBox>
</geoEle>
</dataExt>
<idAbs/>
<searchKeys>
<keyword>storm surge</keyword>
<keyword>flooding</keyword>
<keyword>risk</keyword>
<keyword>National Hurricane Center</keyword>
<keyword>SLOSH</keyword>
<keyword>SLOSH MOMs</keyword>
<keyword>inundation</keyword>
<keyword>hurricanes</keyword>
</searchKeys>
<idPurp>The National Storm Surge Hazard Map is a risk analysis tool authorized by the National Hurricane Program (NHP) under the Stafford Act for the purposes of developing Hurricane Evacuation Studies and other hurricane planning and mitigation activities. This mapping dataset provides a more user friendly, seamless national map of near worst case storm surge flooding scenarios using the National Weather Service (NWS) SLOSH model Maximum of MEOWs (MOMs) product for Category 2 hurricanes at a HIGH tide scenario. The map adopts the GIS/Mapping process used for the National Hurricane Centers (NHC) real-time Potential Storm Surge Flooding map. However, this is not the real-time Potential Storm Surge Flooding map product. Storm Surge Hazard Maps: https://www.nhc.noaa.gov/surge/nationalsurge/ SLOSH Model: https://www.nhc.noaa.gov/surge/slosh.php Potential Storm Surge Flooding Map: https://www.nhc.noaa.gov/surge/inundation/ National Hurricane Program, Hurricane Planning and Response: https://www.fema.gov/emergency-managers/risk-management/hurricanes/ Credits Data processed by the National Hurricane Center (NHC) Storm Surge Unit. The primary elevation data used to compute inundation is provided by the NOAA Office for Coastal Management (OCM) and the USGS 3D Elevation Program (3DEP) is used outside the extent of OCM data.</idPurp>
<idCredit/>
<resConst>
<Consts>
<useLimit/>
</Consts>
</resConst>
</dataIdInfo>
<mdLang>
<languageCode Sync="TRUE" value="eng"/>
<countryCode Sync="TRUE" value="USA"/>
</mdLang>
<distInfo>
<distFormat>
<formatName Sync="TRUE">File Geodatabase Raster Dataset</formatName>
</distFormat>
</distInfo>
<mdHrLv>
<ScopeCd Sync="TRUE" value="005"/>
</mdHrLv>
<mdHrLvName Sync="TRUE">dataset</mdHrLvName>
<refSysInfo>
<RefSystem>
<refSysID>
<identCode Sync="TRUE" code="4269"/>
<idCodeSpace Sync="TRUE">EPSG</idCodeSpace>
<idVersion Sync="TRUE">9.8(3.0.1)</idVersion>
</refSysID>
</RefSystem>
</refSysInfo>
<spdoinfo>
<rastinfo>
<rasttype Sync="TRUE">Pixel</rasttype>
<rowcount Sync="TRUE">7767</rowcount>
<colcount Sync="TRUE">11983</colcount>
<rastxsz Sync="TRUE">0.000090</rastxsz>
<rastysz Sync="TRUE">0.000090</rastysz>
<rastbpp Sync="TRUE">8</rastbpp>
<vrtcount Sync="TRUE">1</vrtcount>
<rastorig Sync="TRUE">Upper Left</rastorig>
<rastcmap Sync="TRUE">FALSE</rastcmap>
<rastcomp Sync="TRUE">LZ77</rastcomp>
<rastband Sync="TRUE">1</rastband>
<rastdtyp Sync="TRUE">pixel codes</rastdtyp>
<rastifor Sync="TRUE">FGDBR</rastifor>
<rastplyr Sync="TRUE">TRUE</rastplyr>
</rastinfo>
</spdoinfo>
<spref>
<horizsys>
<planar>
<planci>
<plance Sync="TRUE">row and column</plance>
<coordrep>
<absres Sync="TRUE">0.000090</absres>
<ordres Sync="TRUE">0.000090</ordres>
</coordrep>
</planci>
</planar>
</horizsys>
</spref>
<eainfo>
<detailed Name="VAT_StormSurge_Cat1_reclass2">
<enttyp>
<enttypl Sync="TRUE">VAT_StormSurge_Cat1_reclass2</enttypl>
<enttypt Sync="TRUE">Table</enttypt>
<enttypc Sync="TRUE">4</enttypc>
</enttyp>
<attr>
<attrlabl Sync="TRUE">OBJECTID</attrlabl>
<attalias Sync="TRUE">OBJECTID</attalias>
<attrtype Sync="TRUE">OID</attrtype>
<attwidth Sync="TRUE">4</attwidth>
<atprecis Sync="TRUE">0</atprecis>
<attscale Sync="TRUE">0</attscale>
<attrdef Sync="TRUE">Internal feature number.</attrdef>
<attrdefs Sync="TRUE">Esri</attrdefs>
<attrdomv>
<udom Sync="TRUE">Sequential unique whole numbers that are automatically generated.</udom>
</attrdomv>
</attr>
<attr>
<attrlabl Sync="TRUE">Value</attrlabl>
<attalias Sync="TRUE">Value</attalias>
<attrtype Sync="TRUE">Integer</attrtype>
<attwidth Sync="TRUE">4</attwidth>
<atprecis Sync="TRUE">0</atprecis>
<attscale Sync="TRUE">0</attscale>
</attr>
<attr>
<attrlabl Sync="TRUE">Count</attrlabl>
<attalias Sync="TRUE">Count</attalias>
<attrtype Sync="TRUE">Double</attrtype>
<attwidth Sync="TRUE">8</attwidth>
<atprecis Sync="TRUE">0</atprecis>
<attscale Sync="TRUE">0</attscale>
</attr>
<attr>
<attrlabl Sync="TRUE">data_range</attrlabl>
<attalias Sync="TRUE">data_range</attalias>
<attrtype Sync="TRUE">String</attrtype>
<attwidth Sync="TRUE">80</attwidth>
<atprecis Sync="TRUE">0</atprecis>
<attscale Sync="TRUE">0</attscale>
</attr>
<attr>
<attrlabl Sync="TRUE">Red</attrlabl>
<attalias Sync="TRUE">Red</attalias>
<attrtype Sync="TRUE">SmallInteger</attrtype>
<attwidth Sync="TRUE">2</attwidth>
<atprecis Sync="TRUE">0</atprecis>
<attscale Sync="TRUE">0</attscale>
</attr>
<attr>
<attrlabl Sync="TRUE">Green</attrlabl>
<attalias Sync="TRUE">Green</attalias>
<attrtype Sync="TRUE">SmallInteger</attrtype>
<attwidth Sync="TRUE">2</attwidth>
<atprecis Sync="TRUE">0</atprecis>
<attscale Sync="TRUE">0</attscale>
</attr>
<attr>
<attrlabl Sync="TRUE">Blue</attrlabl>
<attalias Sync="TRUE">Blue</attalias>
<attrtype Sync="TRUE">SmallInteger</attrtype>
<attwidth Sync="TRUE">2</attwidth>
<atprecis Sync="TRUE">0</atprecis>
<attscale Sync="TRUE">0</attscale>
</attr>
</detailed>
</eainfo>
<mdDateSt Sync="TRUE">20231113</mdDateSt>
</metadata>
